BEGIN:VCALENDAR
VERSION:2.0
PRODID:-//QYUTA | Queensland Yard Utility Trial Association - ECPv6.15.20//NONSGML v1.0//EN
CALSCALE:GREGORIAN
METHOD:PUBLISH
X-WR-CALNAME:QYUTA | Queensland Yard Utility Trial Association
X-ORIGINAL-URL:https://qyuta.com
X-WR-CALDESC:Events for QYUTA | Queensland Yard Utility Trial Association
REFRESH-INTERVAL;VALUE=DURATION:PT1H
X-Robots-Tag:noindex
X-PUBLISHED-TTL:PT1H
BEGIN:VTIMEZONE
TZID:Australia/Brisbane
BEGIN:STANDARD
TZOFFSETFROM:+1000
TZOFFSETTO:+1000
TZNAME:AEST
DTSTART:20250101T000000
END:STANDARD
END:VTIMEZONE
BEGIN:VEVENT
DTSTART;TZID=Australia/Brisbane:20260501T080000
DTEND;TZID=Australia/Brisbane:20260501T170000
DTSTAMP:20260423T222027
CREATED:20251207T223935Z
LAST-MODIFIED:20260412T054550Z
UID:3192-1777622400-1777654800@qyuta.com
SUMMARY:Goondiwindi Yard Trial   ***CANCELLED****
DESCRIPTION:
URL:https://qyuta.com/calendar/goondiwindi-yard-trial/
END:VEVENT
BEGIN:VEVENT
DTSTART;TZID=Australia/Brisbane:20260509T080000
DTEND;TZID=Australia/Brisbane:20260510T170000
DTSTAMP:20260423T222027
CREATED:20251207T223620Z
LAST-MODIFIED:20260324T035251Z
UID:3190-1778313600-1778432400@qyuta.com
SUMMARY:Boonah Yard Trial ******CANCELLED*****
DESCRIPTION:
URL:https://qyuta.com/calendar/boonah-yard-trial/
END:VEVENT
BEGIN:VEVENT
DTSTART;TZID=Australia/Brisbane:20260604T080000
DTEND;TZID=Australia/Brisbane:20260607T170000
DTSTAMP:20260423T222027
CREATED:20251207T224146Z
LAST-MODIFIED:20251207T224152Z
UID:3194-1780560000-1780851600@qyuta.com
SUMMARY:Jandowae  State Utility Championships
DESCRIPTION:
URL:https://qyuta.com/calendar/jandowae-state-utility-championships/
END:VEVENT
BEGIN:VEVENT
DTSTART;TZID=Australia/Brisbane:20260626T080000
DTEND;TZID=Australia/Brisbane:20260628T170000
DTSTAMP:20260423T222027
CREATED:20251207T224253Z
LAST-MODIFIED:20251207T224532Z
UID:3196-1782460800-1782666000@qyuta.com
SUMMARY:Bollon Yard Trial
DESCRIPTION:
URL:https://qyuta.com/calendar/bollon-yard-trial/
END:VEVENT
BEGIN:VEVENT
DTSTART;TZID=Australia/Brisbane:20260912T080000
DTEND;TZID=Australia/Brisbane:20260913T170000
DTSTAMP:20260423T222027
CREATED:20251207T220554Z
LAST-MODIFIED:20251207T222824Z
UID:3169-1789200000-1789318800@qyuta.com
SUMMARY:Jolimont Yard Trial
DESCRIPTION:
URL:https://qyuta.com/calendar/goondiwindi-show-yard-trial/
END:VEVENT
BEGIN:VEVENT
DTSTART;TZID=Australia/Brisbane:20261128T140000
DTEND;TZID=Australia/Brisbane:20261128T170000
DTSTAMP:20260423T222027
CREATED:20251207T220117Z
LAST-MODIFIED:20260310T043453Z
UID:3164-1795874400-1795885200@qyuta.com
SUMMARY:
DESCRIPTION:
URL:https://qyuta.com/calendar/toowoomba-utility-trial/
END:VEVENT
END:VCALENDAR